Workbook

Sheet Программа
I1: Таблица 4
A2: ФИНАНСОВОЕ ОБЕСПЕЧЕНИЕ РЕАЛИЗАЦИИ МУНИЦИПАЛЬНОЙ ПРОГРАММЫ ГОРОДА УСОЛЬЕ-СИБИРСКОЕ «СИСТЕМА РЕГУЛИРОВАНИЯ МУНИЦИПАЛЬНОГО УПРАВЛЕНИЯ»
A4: Ответственный исполнитель, Соисполнители | B4: Источник финансирования | C4: за весь период реализации муниципальной программы | D4: Объем финансирования, рублей
D5: в том числе по годам
D6: 2026 год | E6: 2027 год | F6: 2028 год | G6: 2029 год | H6: 2030 год | I6: 2031 год
A7: Муниципальная программа города Усолье-Сибирское «Система регулирования муниципального управления»
A8: Комитет экономического развития | B8: Всего, в том числе: | C8: =C10+C11+C12+C9 -> 2.0038415e+09 | D8: =D10+D11+D12+D9 -> 4.2443933e+08 | E8: =E10+E11+E12+E9 -> 4.1632924e+08 | F8: =F10+F11+F12+F9 -> 3.6002204e+08 | G8: =G10+G11+G12+G9 -> 2.6768362e+08 | H8: =H10+H11+H12+H9 -> 2.6768362e+08 | I8: =I10+I11+I12+I9 -> 2.6768362e+08
B9: Федеральный бюджет | C9: =C15+C27 -> 0 | D9: =D15+D27 -> 0 | E9: =E15+E27 -> 0 | F9: =F15+F27 -> 0 | G9: =G15+G27 -> 0 | H9: =H15+H27 -> 0 | I9: =I15+I27 -> 0
B10: Областной бюджет | C10: =D10+E10+F10+G10+H10+I10 -> 39940000 | D10: =D16+D28 -> 27940000 | E10: =E16+E28 -> 6000000 | F10: =F16+F28 -> 6000000 | G10: =G16+G28 -> 0 | H10: =H16+H28 -> 0 | I10: =I16+I28 -> 0
B11: Местный бюджет | C11: =D11+E11+F11+G11+H11+I11 -> 1.9599685e+09 | D11: =D17+D29 -> 3.9256633e+08 | E11: =E17+E29 -> 4.1032924e+08 | F11: =F17+F29 -> 3.5402204e+08 | G11: =G17+G29 -> 2.6768362e+08 | H11: =H17+H29 -> 2.6768362e+08 | I11: =I17+I29 -> 2.6768362e+08
B12: Инициативные платежи | C12: =SUM(D12:I12) -> 3933000 | D12: =D18 -> 3933000 | E12: =E18 -> 0 | F12: =F18 -> 0 | G12: =G18 -> 0 | H12: =H18 -> 0 | I12: =I18 -> 0
A13: Проектная часть
A14: Комитет экономического развития | B14: Всего, в том числе: | C14: =C16+C17+C18 -> 45059814 | D14: =D16+D17+D18+D15 -> 31873000 | E14: =E16+E17+E18+E15 -> 6593407 | F14: =F16+F17+F18+F15 -> 6593407 | G14: =G16+G17+G18+G15 -> 0 | H14: =H16+H17+H18+H15 -> 0 | I14: =I16+I17+I18+I15 -> 0
B15: Федеральный бюджет | C15: =C21 -> 0 | D15: =D21 -> 0 | E15: =E21 -> 0 | F15: =F21 -> 0 | G15: =G21 -> 0 | H15: =H21 -> 0 | I15: =I21 -> 0
B16: Областной бюджет | C16: =C22 -> 39940000 | D16: =D22 -> 27940000 | E16: =E22 -> 6000000 | F16: =F22 -> 6000000 | G16: =G22 -> 0 | H16: =H22 -> 0 | I16: =I22 -> 0
B17: Местный бюджет | C17: =C23 -> 1186814 | D17: =D23 -> 0 | E17: =E23 -> 593407 | F17: =F23 -> 593407 | G17: =G23 -> 0 | H17: =H23 -> 0 | I17: =I23 -> 0
B18: Инициативные платежи | C18: =SUM(D18:I18) -> 3933000 | D18: =D24 -> 3933000 | E18: =E24 -> 0 | F18: =F24 -> 0 | G18: =G24 -> 0 | H18: =H24 -> 0 | I18: =I24 -> 0
A19: Муниципальный проект «Развитие инициативного бюджетирования»
A20: Комитет экономического развития | B20: Всего, в том числе: | C20: =C22+C23+C24 -> 45059814 | D20: =D22+D23+D24 -> 31873000 | E20: =E22+E23+E24 -> 6593407 | F20: =F22+F23+F24 -> 6593407 | G20: =G22+G23+G24 -> 0 | H20: =H22+H23+H24 -> 0 | I20: =I22+I23+I24 -> 0
B21: Федеральный бюджет | C21: =D21+E21+F21+G21+H21+I21 -> 0 | D21: 0 | E21: 0 | F21: 0 | G21: 0 | H21: 0 | I21: 0
B22: Областной бюджет | C22: =D22+E22+F22+G22+H22+I22 -> 39940000 | D22: 27940000 | E22: 6000000 | F22: 6000000 | G22: =[1]МПроект!H9 -> 0 | H22: =[1]МПроект!I9 -> 0 | I22: =[1]МПроект!J9 -> 0
B23: Местный бюджет | C23: =D23+E23+F23+G23+H23+I23 -> 1186814 | D23: =[1]МПроект!E10 -> 0 | E23: 593407 | F23: 593407 | G23: =[1]МПроект!H10 -> 0 | H23: =[1]МПроект!I10 -> 0 | I23: =[1]МПроект!J10 -> 0
B24: Инициативные платежи | C24: =D24+E24+F24+G24+H24+I24 -> 3933000 | D24: 3933000 | E24: =[1]МПроект!F11 -> 0 | F24: =[1]МПроект!G11 -> 0 | G24: =[1]МПроект!H11 -> 0 | H24: =[1]МПроект!I11 -> 0 | I24: =[1]МПроект!J11 -> 0
A25: Процессная часть
A26: Комитет экономического развития | B26: Всего, в том числе: | C26: =C27+C28+C29 -> 1.9587817e+09 | D26: =D27+D28+D29 -> 3.9256633e+08 | E26: =E27+E28+E29 -> 4.0973583e+08 | F26: =F27+F28+F29 -> 3.5342864e+08 | G26: =G27+G28+G29 -> 2.6768362e+08 | H26: =H27+H28+H29 -> 2.6768362e+08 | I26: =I27+I28+I29 -> 2.6768362e+08
B27: Федеральный бюджет | C27: =C32+C37+C42 -> 0 | D27: =D32+D37+D42 -> 0 | E27: =E32+E37+E42 -> 0 | F27: =F32+F37+F42 -> 0 | G27: =G32+G37+G42 -> 0 | H27: =H32+H37+H42 -> 0 | I27: =I32+I37+I42 -> 0
B28: Областной бюджет | C28: =C33+C38+C43 -> 0 | D28: =D33+D38+D43 -> 0 | E28: =E33+E38+E43 -> 0 | F28: =F33+F38+F43 -> 0 | G28: =G33+G38+G43 -> 0 | H28: =H33+H38+H43 -> 0 | I28: =I33+I38+I43 -> 0
B29: Местный бюджет | C29: =C34+C39+C44 -> 1.9587817e+09 | D29: =D34+D39+D44 -> 3.9256633e+08 | E29: =E34+E39+E44 -> 4.0973583e+08 | F29: =F34+F39+F44 -> 3.5342864e+08 | G29: =G34+G39+G44 -> 2.6768362e+08 | H29: =H34+H39+H44 -> 2.6768362e+08 | I29: =I34+I39+I44 -> 2.6768362e+08
A30: Комплекс процессных мероприятий «Организация и управление бюджетным процессом бюджета города Усолье-Сибирское»
A31: Комитет по финансам | B31: Всего, в том числе: | C31: =C32+C33+C34 -> 1.6147216e+08 | D31: =D32+D33+D34 -> 27650427 | E31: =E32+E33+E34 -> 34354922 | F31: =F32+F33+F34 -> 29702045 | G31: =G32+G33+G34 -> 23254922 | H31: =H32+H33+H34 -> 23254922 | I31: =I32+I33+I34 -> 23254922
B32: Федеральный бюджет | C32: =D32+E32+F32+G32+H32+I32 -> 0 | D32: 0 | E32: 0 | F32: 0 | G32: 0 | H32: 0 | I32: 0
B33: Областной бюджет | C33: =D33+E33+F33+G33+H33+I33 -> 0 | D33: 0 | E33: 0 | F33: 0 | G33: 0 | H33: 0 | I33: 0
B34: Местный бюджет | C34: =D34+E34+F34+G34+H34+I34 -> 1.6147216e+08 | D34: 27650427 | E34: 34354922 | F34: 29702045 | G34: 23254922 | H34: 23254922 | I34: 23254922
A35: Комплекс процессных мероприятий «Управление и распоряжение земельными участками и муниципальным имуществом на территории муниципального образования «город Усолье-Сибирское»
A36: Комитет по управлению муниципальным имуществом | B36: Всего, в том числе: | C36: =C37+C38+C39 -> 2.4344564e+08 | D36: =D37+D38+D39 -> 51610006 | E36: =E37+E38+E39 -> 52389649 | F36: =F37+F38+F39 -> 34879039 | G36: =G37+G38+G39 -> 34855649 | H36: =H37+H38+H39 -> 34855649 | I36: =I37+I38+I39 -> 34855649
B37: Федеральный бюджет | C37: =D37+E37+F37+G37+H37+I37 -> 0 | D37: 0 | E37: 0 | F37: 0 | G37: 0 | H37: 0 | I37: 0
B38: Областной бюджет | C38: =D38+E38+F38+G38+H38+I38 -> 0 | D38: 0 | E38: 0 | F38: 0 | G38: 0 | H38: 0 | I38: 0
B39: Местный бюджет | C39: =D39+E39+F39+G39+H39+I39 -> 2.4344564e+08 | D39: 51610006 | E39: 52389649 | F39: 34879039 | G39: 34855649 | H39: 34855649 | I39: 34855649
A40: Комплекс процессных мероприятий «Система муниципального управления»
A41: Комитет экономического развития | B41: Всего, в том числе: | C41: =C42+C43+C44 -> 1.5538639e+09 | D41: =D42+D43+D44 -> 3.1330589e+08 | E41: =E42+E43+E44 -> 3.2299126e+08 | F41: =F42+F43+F44 -> 2.8884755e+08 | G41: =G42+G43+G44 -> 2.0957305e+08 | H41: =H42+H43+H44 -> 2.0957305e+08 | I41: =I42+I43+I44 -> 2.0957305e+08
B42: Федеральный бюджет | C42: =D42+E42+F42+G42+H42+I42 -> 0 | D42: 0 | E42: 0 | F42: 0 | G42: 0 | H42: 0 | I42: 0
B43: Областной бюджет | C43: =D43+E43+F43+G43+H43+I43 -> 0 | D43: 0 | E43: 0 | F43: 0 | G43: 0 | H43: 0 | I43: 0
B44: Местный бюджет | C44: =D44+E44+F44+G44+H44+I44 -> 1.5538639e+09 | D44: 3.1330589e+08 | E44: 3.2299126e+08 | F44: 2.8884755e+08 | G44: 2.0957305e+08 | H44: 2.0957305e+08 | I44: 2.0957305e+08
