Workbook

Sheet Программа
H1: Приложение 1 к постановлению администрации города Усолье-Сибирское от ______________ № _____
I2: Таблица 4
A3: ФИНАНСОВОЕ ОБЕСПЕЧЕНИЕ РЕАЛИЗАЦИИ МУНИЦИПАЛЬНОЙ ПРОГРАММЫ ГОРОДА УСОЛЬЕ-СИБИРСКОЕ «СИСТЕМА РЕГУЛИРОВАНИЯ МУНИЦИПАЛЬНОГО УПРАВЛЕНИЯ»
A5: Ответственный исполнитель, Соисполнители | B5: Источник финансирования | C5: за весь период реализации муниципальной программы | D5: Объем финансирования, рублей
D6: в том числе по годам
D7: 2026 год | E7: 2027 год | F7: 2028 год | G7: 2029 год | H7: 2030 год | I7: 2031 год
A8: Муниципальная программа города Усолье-Сибирское «Система регулирования муниципального управления»
A9: Комитет экономического развития | B9: Всего, в том числе: | C9: =C11+C12+C13+C10 -> 2.353452e+09 | D9: =D11+D12+D13+D10 -> 4.2886987e+08 | E9: =E11+E12+E13+E10 -> 3.8887247e+08 | F9: =F11+F12+F13+F10 -> 3.8887247e+08 | G9: =G11+G12+G13+G10 -> 3.8227906e+08 | H9: =H11+H12+H13+H10 -> 3.8227906e+08 | I9: =I11+I12+I13+I10 -> 3.8227906e+08
B10: Федеральный бюджет | C10: =C16+C28 -> 0 | D10: =D16+D28 -> 0 | E10: =E16+E28 -> 0 | F10: =F16+F28 -> 0 | G10: =G16+G28 -> 0 | H10: =H16+H28 -> 0 | I10: =I16+I28 -> 0
B11: Областной бюджет | C11: =D11+E11+F11+G11+H11+I11 -> 39940000 | D11: =D17+D29 -> 27940000 | E11: =E17+E29 -> 6000000 | F11: =F17+F29 -> 6000000 | G11: =G17+G29 -> 0 | H11: =H17+H29 -> 0 | I11: =I17+I29 -> 0
B12: Местный бюджет | C12: =D12+E12+F12+G12+H12+I12 -> 2.309829e+09 | D12: =D18+D30 -> 3.9724687e+08 | E12: =E18+E30 -> 3.8287247e+08 | F12: =F18+F30 -> 3.8287247e+08 | G12: =G18+G30 -> 3.8227906e+08 | H12: =H18+H30 -> 3.8227906e+08 | I12: =I18+I30 -> 3.8227906e+08
B13: Инициативные платежи | C13: =SUM(D13:I13) -> 3683000 | D13: =D19 -> 3683000 | E13: =E19 -> 0 | F13: =F19 -> 0 | G13: =G19 -> 0 | H13: =H19 -> 0 | I13: =I19 -> 0
A14: Проектная часть
A15: Комитет экономического развития | B15: Всего, в том числе: | C15: =C17+C18+C19 -> 44809814 | D15: =D17+D18+D19+D16 -> 31623000 | E15: =E17+E18+E19+E16 -> 6593407 | F15: =F17+F18+F19+F16 -> 6593407 | G15: =G17+G18+G19+G16 -> 0 | H15: =H17+H18+H19+H16 -> 0 | I15: =I17+I18+I19+I16 -> 0
B16: Федеральный бюджет | C16: =C22 -> 0 | D16: =D22 -> 0 | E16: =E22 -> 0 | F16: =F22 -> 0 | G16: =G22 -> 0 | H16: =H22 -> 0 | I16: =I22 -> 0
B17: Областной бюджет | C17: =C23 -> 39940000 | D17: =D23 -> 27940000 | E17: =E23 -> 6000000 | F17: =F23 -> 6000000 | G17: =G23 -> 0 | H17: =H23 -> 0 | I17: =I23 -> 0
B18: Местный бюджет | C18: =C24 -> 1186814 | D18: =D24 -> 0 | E18: =E24 -> 593407 | F18: =F24 -> 593407 | G18: =G24 -> 0 | H18: =H24 -> 0 | I18: =I24 -> 0
B19: Инициативные платежи | C19: =SUM(D19:I19) -> 3683000 | D19: =D25 -> 3683000 | E19: =E25 -> 0 | F19: =F25 -> 0 | G19: =G25 -> 0 | H19: =H25 -> 0 | I19: =I25 -> 0
A20: Муниципальный проект «Развитие инициативного бюджетирования»
A21: Комитет экономического развития | B21: Всего, в том числе: | C21: =C23+C24+C25 -> 44809814 | D21: =D23+D24+D25 -> 31623000 | E21: =E23+E24+E25 -> 6593407 | F21: =F23+F24+F25 -> 6593407 | G21: =G23+G24+G25 -> 0 | H21: =H23+H24+H25 -> 0 | I21: =I23+I24+I25 -> 0
B22: Федеральный бюджет | C22: =D22+E22+F22+G22+H22+I22 -> 0 | D22: 0 | E22: 0 | F22: 0 | G22: 0 | H22: 0 | I22: 0
B23: Областной бюджет | C23: =D23+E23+F23+G23+H23+I23 -> 39940000 | D23: =МПроект!E9 -> 27940000 | E23: =МПроект!F9 -> 6000000 | F23: =МПроект!G9 -> 6000000 | G23: =МПроект!H9 -> 0 | H23: =МПроект!I9 -> 0 | I23: =МПроект!J9 -> 0
B24: Местный бюджет | C24: =D24+E24+F24+G24+H24+I24 -> 1186814 | D24: =МПроект!E10 -> 0 | E24: =МПроект!F10 -> 593407 | F24: =МПроект!G10 -> 593407 | G24: =МПроект!H10 -> 0 | H24: =МПроект!I10 -> 0 | I24: =МПроект!J10 -> 0
B25: Инициативные платежи | C25: =D25+E25+F25+G25+H25+I25 -> 3683000 | D25: =МПроект!E11 -> 3683000 | E25: =МПроект!F11 -> 0 | F25: =МПроект!G11 -> 0 | G25: =МПроект!H11 -> 0 | H25: =МПроект!I11 -> 0 | I25: =МПроект!J11 -> 0
A26: Процессная часть
A27: Комитет экономического развития | B27: Всего, в том числе: | C27: =C28+C29+C30 -> 2.3086422e+09 | D27: =D28+D29+D30 -> 3.9724687e+08 | E27: =E28+E29+E30 -> 3.8227906e+08 | F27: =F28+F29+F30 -> 3.8227906e+08 | G27: =G28+G29+G30 -> 3.8227906e+08 | H27: =H28+H29+H30 -> 3.8227906e+08 | I27: =I28+I29+I30 -> 3.8227906e+08
B28: Федеральный бюджет | C28: =C33+C38+C43 -> 0 | D28: =D33+D38+D43 -> 0 | E28: =E33+E38+E43 -> 0 | F28: =F33+F38+F43 -> 0 | G28: =G33+G38+G43 -> 0 | H28: =H33+H38+H43 -> 0 | I28: =I33+I38+I43 -> 0
B29: Областной бюджет | C29: =C34+C39+C44 -> 0 | D29: =D34+D39+D44 -> 0 | E29: =E34+E39+E44 -> 0 | F29: =F34+F39+F44 -> 0 | G29: =G34+G39+G44 -> 0 | H29: =H34+H39+H44 -> 0 | I29: =I34+I39+I44 -> 0
B30: Местный бюджет | C30: =C35+C40+C45 -> 2.3086422e+09 | D30: =D35+D40+D45 -> 3.9724687e+08 | E30: =E35+E40+E45 -> 3.8227906e+08 | F30: =F35+F40+F45 -> 3.8227906e+08 | G30: =G35+G40+G45 -> 3.8227906e+08 | H30: =H35+H40+H45 -> 3.8227906e+08 | I30: =I35+I40+I45 -> 3.8227906e+08
A31: Комплекс процессных мероприятий «Организация и управление бюджетным процессом бюджета города Усолье-Сибирское»
A32: Комитет по финансам | B32: Всего, в том числе: | C32: =C33+C34+C35 -> 1.4097734e+08 | D32: =D33+D34+D35 -> 23496223 | E32: =E33+E34+E35 -> 23496223 | F32: =F33+F34+F35 -> 23496223 | G32: =G33+G34+G35 -> 23496223 | H32: =H33+H34+H35 -> 23496223 | I32: =I33+I34+I35 -> 23496223
B33: Федеральный бюджет | C33: =D33+E33+F33+G33+H33+I33 -> 0 | D33: 0 | E33: 0 | F33: 0 | G33: 0 | H33: 0 | I33: 0
B34: Областной бюджет | C34: =D34+E34+F34+G34+H34+I34 -> 0 | D34: 0 | E34: 0 | F34: 0 | G34: 0 | H34: 0 | I34: 0
B35: Местный бюджет | C35: =D35+E35+F35+G35+H35+I35 -> 1.4097734e+08 | D35: =КФ!E8 -> 23496223 | E35: =КФ!F8 -> 23496223 | F35: =КФ!G8 -> 23496223 | G35: =КФ!H8 -> 23496223 | H35: =КФ!I8 -> 23496223 | I35: =КФ!J8 -> 23496223
A36: Комплекс процессных мероприятий «Управление и распоряжение земельными участками и муниципальным имуществом на территории муниципального образования «город Усолье-Сибирское»
A37: Комитет по управлению муниципальным имуществом | B37: Всего, в том числе: | C37: =C38+C39+C40 -> 3.1964734e+08 | D37: =D38+D39+D40 -> 54218057 | E37: =E38+E39+E40 -> 53085857 | F37: =F38+F39+F40 -> 53085857 | G37: =G38+G39+G40 -> 53085857 | H37: =H38+H39+H40 -> 53085857 | I37: =I38+I39+I40 -> 53085857
B38: Федеральный бюджет | C38: =D38+E38+F38+G38+H38+I38 -> 0 | D38: 0 | E38: 0 | F38: 0 | G38: 0 | H38: 0 | I38: 0
B39: Областной бюджет | C39: =D39+E39+F39+G39+H39+I39 -> 0 | D39: 0 | E39: 0 | F39: 0 | G39: 0 | H39: 0 | I39: 0
B40: Местный бюджет | C40: =D40+E40+F40+G40+H40+I40 -> 3.1964734e+08 | D40: =КУМИ!E9 -> 54218057 | E40: =КУМИ!F9 -> 53085857 | F40: =КУМИ!G9 -> 53085857 | G40: =КУМИ!H9 -> 53085857 | H40: =КУМИ!I9 -> 53085857 | I40: =КУМИ!J9 -> 53085857
A41: Комплекс процессных мероприятий «Система муниципального управления»
...

Sheet МПроект
H1: Приложение 2 к постановлению администрации города Усолье-Сибирское от ______________ № _____
J2: Таблица 4
A3: Финансовое обеспечение реализации муниципального проекта «Развитие инициативного бюджетирования»
A5: № п/п | B5: Наименование мероприятия (результата) | C5: Ответственный исполнитель, участник | D5: Источники финансирования | E5: Расходы (рублей), годы
E6: 2026 | F6: 2027 | G6: 2028 | H6: 2029 | I6: 2030 | J6: 2031
A7: 1 | B7: 2 | C7: 3 | D7: 4 | E7: 5 | F7: 6 | G7: 7 | H7: 8 | I7: 9 | J7: 10
A8: Муниципальный проект "Развитие инициативного бюджетирования" | C8: Всего | D8: Всего, в том числе: | E8: =E9+E10+E11 -> 31623000 | F8: =F9+F10+F11 -> 6593407 | G8: =G9+G10+G11 -> 6593407 | H8: =H9+H10+H11 -> 0 | I8: =I9+I10+I11 -> 0 | J8: =J9+J10+J11 -> 0
D9: Областной бюджет (далее - ОБ) | E9: =E13+E21 -> 27940000 | F9: =F13+F21 -> 6000000 | G9: =G13+G21 -> 6000000 | H9: =H13+H21 -> 0 | I9: =I13+I21 -> 0 | J9: =J13+J21 -> 0
D10: Местный бюджет (далее - МБ) | E10: =E14+E22 -> 0 | F10: =F14+F22 -> 593407 | G10: =G14+G22 -> 593407 | H10: =H14+H22 -> 0 | I10: =I14+I22 -> 0 | J10: =J14+J22 -> 0
D11: Инициативные платежи (далее - ИП) | E11: =E15+E23 -> 3683000 | F11: =F15+F23 -> 0 | G11: =G15+G23 -> 0 | H11: =H15+H23 -> 0 | I11: =I15+I23 -> 0 | J11: =J15+J23 -> 0
A12: 1 | B12: Реализация мероприятий перечня проектов народных инициатив | C12: Всего | D12: Всего, в том числе: | E12: =E13+E14+E15 -> 0 | F12: =F13+F14+F15 -> 6593407 | G12: =G13+G14+G15 -> 6593407 | H12: =H13+H14+H15 -> 0 | I12: =I13+I14+I15 -> 0 | J12: =J13+J14+J15 -> 0
D13: ОБ | E13: =E17 -> 0 | F13: =F17 -> 6000000 | G13: =G17 -> 6000000 | H13: =H17 -> 0 | I13: =I17 -> 0 | J13: =J17 -> 0
D14: МБ | E14: =E18 -> 0 | F14: =F18 -> 593407 | G14: =G18 -> 593407 | H14: =H18 -> 0 | I14: =I18 -> 0 | J14: =J18 -> 0
D15: ИП | E15: =E19 -> 0 | F15: =F19 -> 0 | G15: =G19 -> 0 | H15: =H19 -> 0 | I15: =I19 -> 0 | J15: =J19 -> 0
C16: КЭР | D16: Всего, в том числе: | E16: =SUM(E17:E19) -> 0 | F16: =SUM(F17:F19) -> 6593407 | G16: =SUM(G17:G19) -> 6593407 | H16: =SUM(H17:H19) -> 0 | I16: =SUM(I17:I19) -> 0 | J16: =SUM(J17:J19) -> 0
D17: ОБ | E17: 0 | F17: 6000000 | G17: 6000000 | H17: 0 | I17: 0 | J17: 0
D18: МБ | E18: 0 | F18: 593407 | G18: 593407 | H18: 0 | I18: 0 | J18: 0
D19: ИП | E19: 0 | F19: 0 | G19: 0 | H19: 0 | I19: 0 | J19: 0
A20: 2 | B20: Реализация инициативных проектов | C20: Всего | D20: Всего, в том числе: | E20: =SUM(E21:E23) -> 31623000 | F20: =SUM(F21:F23) -> 0 | G20: =SUM(G21:G23) -> 0 | H20: =SUM(H21:H23) -> 0 | I20: =SUM(I21:I23) -> 0 | J20: =SUM(J21:J23) -> 0
D21: ОБ | E21: =E25+E29 -> 27940000 | F21: =F25+F29 -> 0 | G21: =G25+G29 -> 0 | H21: =H25+H29 -> 0 | I21: =I25+I29 -> 0 | J21: =J25+J29 -> 0
D22: МБ | E22: =E26+E30 -> 0 | F22: =F26+F30 -> 0 | G22: =G26+G30 -> 0 | H22: =H26+H30 -> 0 | I22: =I26+I30 -> 0 | J22: =J26+J30 -> 0
D23: ИП | E23: =E27+E31 -> 3683000 | F23: =F27+F31 -> 0 | G23: =G27+G31 -> 0 | H23: =H27+H31 -> 0 | I23: =I27+I31 -> 0 | J23: =J27+J31 -> 0
C24: КГХ | D24: Всего, в том числе: | E24: =SUM(E25:E27) -> 10000000 | F24: =SUM(F25:F27) -> 0 | G24: =SUM(G25:G27) -> 0 | H24: =SUM(H25:H27) -> 0 | I24: =SUM(I25:I27) -> 0 | J24: =SUM(J25:J27) -> 0
D25: ОБ | E25: 9000000 | F25: 0 | G25: 0 | H25: 0 | I25: 0 | J25: 0
D26: МБ | E26: 0 | F26: 0 | G26: 0 | H26: 0 | I26: 0 | J26: 0
D27: ИП | E27: 1000000 | F27: 0 | G27: 0 | H27: 0 | I27: 0 | J27: 0
C28: Отдел образования | D28: Всего, в том числе: | E28: =E29+E30+E31 -> 21623000 | F28: =F29+F30+F31 -> 0 | G28: =G29+G30+G31 -> 0 | H28: =H29+H30+H31 -> 0 | I28: =I29+I30+I31 -> 0 | J28: =J29+J30+J31 -> 0
D29: ОБ | E29: 18940000 | F29: 0 | G29: 0 | H29: 0 | I29: 0 | J29: 0
D30: МБ | E30: 0 | F30: 0 | G30: 0 | H30: 0 | I30: 0 | J30: 0
D31: ИП | E31: 2683000 | F31: 0 | G31: 0 | H31: 0 | I31: 0 | J31: 0

Sheet КФ
J1: Таблица 4
A2: Финансовое обеспечение реализации комплекса процессных мероприятий «Организация и управление бюджетным процессом бюджета города Усолье-Сибирское»
A4: № п/п | B4: Наименование мероприятия (результата) | C4: Ответственный исполнитель, участник | D4: Источники финансирования | E4: Расходы (рублей), годы
E5: 2026 | F5: 2027 | G5: 2028 | H5: 2029 | I5: 2030 | J5: 2031
A6: 1 | B6: 2 | C6: 3 | D6: 4 | E6: 5 | F6: 6 | G6: 7 | H6: 8 | I6: 9 | J6: 10
A7: Комплекс процессных мероприятий «Организация и управление бюджетным процессом бюджета города Усолье-Сибирское» | C7: Комитет по финансам | D7: Всего, в том числе: | E7: =E9+E13+E15+E17+E11 -> 23496223 | F7: =F9+F13+F15+F17+F11 -> 23496223 | G7: =G9+G13+G15+G17+G11 -> 23496223 | H7: =H9+H13+H15+H17+H11 -> 23496223 | I7: =I9+I13+I15+I17+I11 -> 23496223 | J7: =J9+J13+J15+J17+J11 -> 23496223
D8: Местный бюджет (далее - МБ) | E8: =E10+E14+E16+E18+E12 -> 23496223 | F8: =F10+F14+F16+F18+F12 -> 23496223 | G8: =G10+G14+G16+G18+G12 -> 23496223 | H8: =H10+H14+H16+H18+H12 -> 23496223 | I8: =I10+I14+I16+I18+I12 -> 23496223 | J8: =J10+J14+J16+J18+J12 -> 23496223
A9: 1 | B9: Обеспечено эффективное управление муниципальными финансами | C9: Комитет по финансам | D9: Всего, в том числе: | E9: =E10 -> 21496223 | F9: =F10 -> 21496223 | G9: =G10 -> 21496223 | H9: =H10 -> 21496223 | I9: =I10 -> 21496223 | J9: =J10 -> 21496223
D10: МБ | E10: 21496223 | F10: 21496223 | G10: 21496223 | H10: 21496223 | I10: 21496223 | J10: 21496223
A11: 2 | B11: Осуществлен учет средств резервного фонда муниципального образования город Усолье-Сибирское | C11: Администрация города | D11: Всего, в том числе: | E11: =E12 -> 1000000 | F11: =F12 -> 1000000 | G11: =G12 -> 1000000 | H11: =H12 -> 1000000 | I11: =I12 -> 1000000 | J11: =J12 -> 1000000
D12: МБ | E12: 1000000 | F12: 1000000 | G12: 1000000 | H12: 1000000 | I12: 1000000 | J12: 1000000
A13: 3 | B13: Обеспечено выполнение обязательств по обслуживанию муниципального долга | C13: Комитет по финансам | D13: Всего, в том числе: | E13: =E14 -> 1000000 | F13: =F14 -> 1000000 | G13: =G14 -> 1000000 | H13: =H14 -> 1000000 | I13: =I14 -> 1000000 | J13: =J14 -> 1000000
D14: МБ | E14: 1000000 | F14: 1000000 | G14: 1000000 | H14: 1000000 | I14: 1000000 | J14: 1000000
A15: 4 | B15: Реализованы мероприятия по повышению финансовой грамотности населения на территории города Усолье-Сибирское | C15: Отдел доходов комитета по финансам, отдел образования, отдел культуры, отдел спорта, отдел по взаимодействию с общественностью и аналитической работе администрации города | D15: Всего, в том числе: | E15: =E16 -> 0 | F15: =F16 -> 0 | G15: =G16 -> 0 | H15: =H16 -> 0 | I15: =I16 -> 0 | J15: =J16 -> 0
D16: МБ | E16: 0 | F16: 0 | G16: 0 | H16: 0 | I16: 0 | J16: 0
A17: 5 | B17: Осуществлены мероприятия по обеспечению прозрачности и открытости бюджетного процесса в городе Усолье-Сибирское | C17: Комитет по финансам | D17: Всего, в том числе: | E17: =E18 -> 0 | F17: =F18 -> 0 | G17: =G18 -> 0 | H17: =H18 -> 0 | I17: =I18 -> 0 | J17: =J18 -> 0
D18: МБ | E18: 0 | F18: 0 | G18: 0 | H18: 0 | I18: 0 | J18: 0

Sheet КУМИ
H1: Приложение 3 к постановлению администрации города Усолье-Сибирское от ______________ № _____
J2: Таблица 4
A3: Финансовое обеспечение реализации комплекса процессных мероприятий «Управление и распоряжение земельными участками и муниципальным имуществом на территории муниципального образования «город Усолье-Сибирское»
A5: № п/п | B5: Наименование мероприятия (результата) | C5: Ответственный исполнитель, участник | D5: Источники финансирования | E5: Расходы (рублей), годы
E6: 2026 | F6: 2027 | G6: 2028 | H6: 2029 | I6: 2030 | J6: 2031
A7: 1 | B7: 2 | C7: 3 | D7: 4 | E7: 5 | F7: 6 | G7: 7 | H7: 8 | I7: 9 | J7: 10
A8: Комплекс процессных мероприятий «Управление и распоряжение земельными участками и муниципальным имуществом на территории муниципального образования «город Усолье-Сибирское» | C8: КУМИ | D8: Всего, в том числе: | E8: =E9 -> 54218057 | F8: =F9 -> 53085857 | G8: =G9 -> 53085857 | H8: =H9 -> 53085857 | I8: =I9 -> 53085857 | J8: =J9 -> 53085857
D9: Местный бюджет (далее - МБ) | E9: =E11+E13+E15+E17 -> 54218057 | F9: =F11+F13+F15+F17 -> 53085857 | G9: =G11+G13+G15+G17 -> 53085857 | H9: =H11+H13+H15+H17 -> 53085857 | I9: =I11+I13+I15+I17 -> 53085857 | J9: =J11+J13+J15+J17 -> 53085857
A10: 1 | B10: Организован процесс управления и распоряжения муниципальным имуществом | C10: КУМИ | D10: Всего, в том числе: | E10: =E11 -> 943200 | F10: =F11 -> 823200 | G10: =G11 -> 823200 | H10: =H11 -> 823200 | I10: =I11 -> 823200 | J10: =J11 -> 823200
D11: МБ | E11: =823200+120000 -> 943200 | F11: 823200 | G11: 823200 | H11: 823200 | I11: 823200 | J11: 823200
A12: 2 | B12: Организован процесс управления и распоряжения земельными участками | C12: КУМИ | D12: Всего, в том числе: | E12: =E13 -> 830000 | F12: =F13 -> 950000 | G12: =G13 -> 950000 | H12: =H13 -> 950000 | I12: =I13 -> 950000 | J12: =J13 -> 950000
D13: МБ | E13: =950000-120000 -> 830000 | F13: 950000 | G13: 950000 | H13: 950000 | I13: 950000 | J13: 950000
A14: 3 | B14: Владение и содержание муниципального имущества | C14: КУМИ | D14: Всего, в том числе: | E14: =E15 -> 19799367 | F14: =F15 -> 18667168 | G14: =G15 -> 18667168 | H14: =H15 -> 18667168 | I14: =I15 -> 18667168 | J14: =J15 -> 18667168
D15: МБ | E15: =19292868.72+506498.72 -> 19799367 | F15: 18667168 | G15: 18667168 | H15: 18667168 | I15: 18667168 | J15: 18667168
A16: 4 | B16: Обеспечена деятельность комитета по управлению имуществом администрации города Усолье-Сибирское | C16: КУМИ | D16: Всего, в том числе: | E16: =E17 -> 32645490 | F16: =F17 -> 32645490 | G16: =G17 -> 32645490 | H16: =H17 -> 32645490 | I16: =I17 -> 32645490 | J16: =J17 -> 32645490
D17: МБ | E17: 32645490 | F17: 32645490 | G17: 32645490 | H17: 32645490 | I17: 32645490 | J17: 32645490

Sheet СМУ
H1: Приложение 4 к постановлению администрации города Усолье-Сибирское от ______________ № _____
J2: Таблица 4
A3: Финансовое обеспечение реализации комплекса процессных мероприятий «Система муниципального управления»
A5: № п/п | B5: Наименование мероприятия (результата) | C5: Ответственный исполнитель, участник | D5: Источники финансирования | E5: Расходы (рублей), годы
E6: 2026 | F6: 2027 | G6: 2028 | H6: 2029 | I6: 2030 | J6: 2031
A7: 1 | B7: 2 | C7: 3 | D7: 4 | E7: 5 | F7: 6 | G7: 7 | H7: 8 | I7: 9 | J7: 10
A8: Комплекс процессных мероприятий «Система муниципального управления» | C8: Комитет экономического развития | D8: Всего, в том числе: | E8: =E10+E12+E20+E30+E32+E34 -> 3.1953259e+08 | F8: =F10+F12+F20+F30+F32+F34 -> 3.0569698e+08 | G8: =G10+G12+G20+G30+G32+G34 -> 3.0569698e+08 | H8: =H10+H12+H20+H30+H32+H34 -> 3.0569698e+08 | I8: =I10+I12+I20+I30+I32+I34 -> 3.0569698e+08 | J8: =J10+J12+J20+J30+J32+J34 -> 3.0569698e+08
D9: Местный бюджет (далее - МБ) | E9: =E11+E13+E21+E31+E33+E35 -> 3.1953259e+08 | F9: =F11+F13+F21+F31+F33+F35 -> 3.0569698e+08 | G9: =G11+G13+G21+G31+G33+G35 -> 3.0569698e+08 | H9: =H11+H13+H21+H31+H33+H35 -> 3.0569698e+08 | I9: =I11+I13+I21+I31+I33+I35 -> 3.0569698e+08 | J9: =J11+J13+J21+J31+J33+J35 -> 3.0569698e+08
A10: 1 | B10: Разработаны документы территориального планирования муниципального образования «город Усолье-Сибирское» | C10: Отдел архитектуры и градостроительства | D10: Всего, в том числе: | E10: =E11 -> 3000000 | F10: =F11 -> 3000000 | G10: =G11 -> 3000000 | H10: =H11 -> 3000000 | I10: =I11 -> 3000000 | J10: =J11 -> 3000000
D11: МБ | E11: 3000000 | F11: 3000000 | G11: 3000000 | H11: 3000000 | I11: 3000000 | J11: 3000000
A12: 2 | B12: Информировано население о деятельности органов местного самоуправления (информирование в соцсетях, видеохостингах, печатных СМИ и сетевом издании) | C12: Администрация города, Дума города, КСП города | D12: Всего, в том числе: | E12: =E14+E16+E18 -> 1800000 | F12: =F14+F16+F18 -> 1300000 | G12: =G14+G16+G18 -> 1300000 | H12: =H14+H16+H18 -> 1300000 | I12: =I14+I16+I18 -> 1300000 | J12: =J14+J16+J18 -> 1300000
D13: МБ | E13: =E15+E17+E19 -> 1800000 | F13: =F15+F17+F19 -> 1300000 | G13: =G15+G17+G19 -> 1300000 | H13: =H15+H17+H19 -> 1300000 | I13: =I15+I17+I19 -> 1300000 | J13: =J15+J17+J19 -> 1300000
A14: 2.1. | C14: Администрация города | D14: Всего, в том числе: | E14: =E15 -> 1141200 | F14: =F15 -> 891200 | G14: =G15 -> 891200 | H14: =H15 -> 891200 | I14: =I15 -> 891200 | J14: =J15 -> 891200
D15: МБ | E15: =891200+250000 -> 1141200 | F15: 891200 | G15: 891200 | H15: 891200 | I15: 891200 | J15: 891200
A16: 2.2. | C16: Дума города | D16: Всего, в том числе: | E16: =E17 -> 646800 | F16: =F17 -> 396800 | G16: =G17 -> 396800 | H16: =H17 -> 396800 | I16: =I17 -> 396800 | J16: =J17 -> 396800
D17: МБ | E17: =396800+250000 -> 646800 | F17: 396800 | G17: 396800 | H17: 396800 | I17: 396800 | J17: 396800
A18: 2.3. | C18: КСП города | D18: Всего, в том числе: | E18: =E19 -> 12000 | F18: =F19 -> 12000 | G18: =G19 -> 12000 | H18: =H19 -> 12000 | I18: =I19 -> 12000 | J18: =J19 -> 12000
D19: МБ | E19: 12000 | F19: 12000 | G19: 12000 | H19: 12000 | I19: 12000 | J19: 12000
A20: 3 | B20: Обеспечено функционирование текущей деятельности администрации города Усолье-Сибирское и муниципальных учреждений города | C20: Администрация города, МКУ «ГУКС», МКУ «ЦБ», Комитет по городскому хозяйству администрации города | D20: Всего, в том числе: | E20: =E22+E24+E26+E28 -> 3.0930059e+08 | F20: =F22+F24+F26+F28 -> 2.9596498e+08 | G20: =G22+G24+G26+G28 -> 2.9596498e+08 | H20: =H22+H24+H26+H28 -> 2.9596498e+08 | I20: =I22+I24+I26+I28 -> 2.9596498e+08 | J20: =J22+J24+J26+J28 -> 2.9596498e+08
D21: МБ | E21: =+E23+E25+E27+E29 -> 3.0930059e+08 | F21: =+F23+F25+F27+F29 -> 2.9596498e+08 | G21: =+G23+G25+G27+G29 -> 2.9596498e+08 | H21: =+H23+H25+H27+H29 -> 2.9596498e+08 | I21: =+I23+I25+I27+I29 -> 2.9596498e+08 | J21: =+J23+J25+J27+J29 -> 2.9596498e+08
A22: 3.1. | C22: Администрация города | D22: Всего, в том числе: | E22: =E23 -> 1.4252212e+08 | F22: =F23 -> 1.3088652e+08 | G22: =G23 -> 1.3088652e+08 | H22: =H23 -> 1.3088652e+08 | I22: =I23 -> 1.3088652e+08 | J22: =J23 -> 1.3088652e+08
D23: МБ | E23: =152038730.25-9516607 -> 1.4252212e+08 | F23: =140403127.99-9516607 -> 1.3088652e+08 | G23: =140403127.99-9516607 -> 1.3088652e+08 | H23: =140403127.99-9516607 -> 1.3088652e+08 | I23: =140403127.99-9516607 -> 1.3088652e+08 | J23: =140403127.99-9516607 -> 1.3088652e+08
A24: 3.2. | C24: МКУ «ГУКС» | D24: Всего, в том числе: | E24: =E25 -> 25725650 | F24: =F25 -> 25725650 | G24: =G25 -> 25725650 | H24: =H25 -> 25725650 | I24: =I25 -> 25725650 | J24: =J25 -> 25725650
D25: МБ | E25: 25725650 | F25: 25725650 | G25: 25725650 | H25: 25725650 | I25: 25725650 | J25: 25725650
A26: 3.3. | C26: МКУ «ЦБ» | D26: Всего, в том числе: | E26: =E27 -> 99452807 | F26: =F27 -> 97752807 | G26: =G27 -> 97752807 | H26: =H27 -> 97752807 | I26: =I27 -> 97752807 | J26: =J27 -> 97752807
D27: МБ | E27: =97752806.78+1700000 -> 99452807 | F27: 97752807 | G27: 97752807 | H27: 97752807 | I27: 97752807 | J27: 97752807
A28: 3.4. | C28: КГХ | D28: Всего, в том числе: | E28: =E29 -> 41600005 | F28: =F29 -> 41600005 | G28: =G29 -> 41600005 | H28: =H29 -> 41600005 | I28: =I29 -> 41600005 | J28: =J29 -> 41600005
D29: МБ | E29: 41600005 | F29: 41600005 | G29: 41600005 | H29: 41600005 | I29: 41600005 | J29: 41600005
A30: 4 | B30: Обеспечена бесперебойная работа автоматизированных рабочих мест администрации города Усолье-Сибирское | C30: Аппарата администрации города | D30: Всего, в том числе: | E30: =E31 -> 5000000 | F30: =F31 -> 5000000 | G30: =G31 -> 5000000 | H30: =H31 -> 5000000 | I30: =I31 -> 5000000 | J30: =J31 -> 5000000
D31: МБ | E31: =4000000+1000000 -> 5000000 | F31: 5000000 | G31: 5000000 | H31: 5000000 | I31: 5000000 | J31: 5000000
A32: 5 | B32: Информационно-статистические услуги | C32: Экономический отдел | D32: Всего, в том числе: | E32: =E33 -> 32000 | F32: =F33 -> 32000 | G32: =G33 -> 32000 | H32: =H33 -> 32000 | I32: =I33 -> 32000 | J32: =J33 -> 32000
D33: МБ | E33: 32000 | F33: 32000 | G33: 32000 | H33: 32000 | I33: 32000 | J33: 32000
A34: 6 | B34: Организован и проведен конкурс «Общественное признание» | C34: Дума города | D34: Всего, в том числе: | E34: =E35 -> 400000 | F34: =F35 -> 400000 | G34: =G35 -> 400000 | H34: =H35 -> 400000 | I34: =I35 -> 400000 | J34: =J35 -> 400000
D35: МБ | E35: 400000 | F35: 400000 | G35: 400000 | H35: 400000 | I35: 400000 | J35: 400000
